BEGIN:VCALENDAR
VERSION:2.0
PRODID:-//Enable People - ECPv6.15.20//NONSGML v1.0//EN
CALSCALE:GREGORIAN
METHOD:PUBLISH
X-ORIGINAL-URL:https://enablepeople.eu
X-WR-CALDESC:Veranstaltungen für Enable People
REFRESH-INTERVAL;VALUE=DURATION:PT1H
X-Robots-Tag:noindex
X-PUBLISHED-TTL:PT1H
BEGIN:VTIMEZONE
TZID:Europe/Berlin
BEGIN:DAYLIGHT
TZOFFSETFROM:+0100
TZOFFSETTO:+0200
TZNAME:CEST
DTSTART:20250330T010000
END:DAYLIGHT
BEGIN:STANDARD
TZOFFSETFROM:+0200
TZOFFSETTO:+0100
TZNAME:CET
DTSTART:20251026T010000
END:STANDARD
BEGIN:DAYLIGHT
TZOFFSETFROM:+0100
TZOFFSETTO:+0200
TZNAME:CEST
DTSTART:20260329T010000
END:DAYLIGHT
BEGIN:STANDARD
TZOFFSETFROM:+0200
TZOFFSETTO:+0100
TZNAME:CET
DTSTART:20261025T010000
END:STANDARD
BEGIN:DAYLIGHT
TZOFFSETFROM:+0100
TZOFFSETTO:+0200
TZNAME:CEST
DTSTART:20270328T010000
END:DAYLIGHT
BEGIN:STANDARD
TZOFFSETFROM:+0200
TZOFFSETTO:+0100
TZNAME:CET
DTSTART:20271031T010000
END:STANDARD
BEGIN:DAYLIGHT
TZOFFSETFROM:+0100
TZOFFSETTO:+0200
TZNAME:CEST
DTSTART:20280326T010000
END:DAYLIGHT
BEGIN:STANDARD
TZOFFSETFROM:+0200
TZOFFSETTO:+0100
TZNAME:CET
DTSTART:20281029T010000
END:STANDARD
END:VTIMEZONE
BEGIN:VEVENT
DTSTART;TZID=Europe/Berlin:20261008T093000
DTEND;TZID=Europe/Berlin:20270725T130000
DTSTAMP:20260423T193340
CREATED:20250129T193921Z
LAST-MODIFIED:20260218T183529Z
UID:620-1791451800-1816520400@enablepeople.eu
SUMMARY:Berufungsschule 2026/2027
DESCRIPTION:[vc_row][vc_column][vc_empty_space][/vc_column][/vc_row][vc_row][vc_column width=“1/4″][vc_icon icon_fontawesome=“far fa-clock“ color=“black“ background_style=“rounded-outline“ background_color=“black“ size=“lg“ align=“center“ css=““][vc_column_text css=““] \nDo.\, 08.10.2026 – So.\, 11.10.2026 \nDo.\,  -07.01.2027- So.\, 10.01.2027 \nDo.\, 15.04.2027 – So.\, 18.04.2027  \nDo.\, 22.07.2027 – So.\, 25.07.2027  \n[/vc_column_text][/vc_column][vc_column width=“1/4″][vc_icon icon_fontawesome=“fas fa-map-marker-alt“ color=“black“ background_style=“rounded-outline“ background_color=“black“ size=“lg“ align=“center“ css=““][vc_column_text css=““] \nVeranstaltungsraum  \n83242 Reit im Winkl \nOnline via Zoom \n14-tägig Donnerstagabend \n[/vc_column_text][/vc_column][vc_column width=“1/4″][vc_icon icon_fontawesome=“fas fa-euro-sign“ color=“black“ background_style=“rounded-outline“ background_color=“black“ size=“lg“ align=“center“ css=““][vc_column_text css=““] \nAnmeldung \nEarly-Bird bis 31.05.2026: \n2200€  \nEinmalig bis 31.07.2026: \n2600€ \nSchüler/Studenten bis 31.07.2026: \n1650€ \n20% Rabatt für den Ehepartner \n[/vc_column_text][/vc_column][vc_column width=“1/4″][vc_icon icon_fontawesome=“fas fa-home“ color=“black“ background_style=“rounded-outline“ background_color=“black“ size=“lg“ align=“center“ css=““][vc_column_text css=““] \nUnterkunft: \nDie Unterbringung\, muss selbst organisiert werden. Die Verpflegung ist exklusive. \n[/vc_column_text][/vc_column][/vc_row][vc_row][vc_column][vc_empty_space][/vc_column][/vc_row][vc_row gap=“35″][vc_column][vc_separator color=“black“ css=“.vc_custom_1748953102943{margin-bottom: 0px !important;}“][/vc_column][/vc_row][vc_row][vc_column][vc_empty_space][/vc_column][/vc_row][vc_row css=“.vc_custom_1750090587960{background-color: #DD9933 !important;}“][vc_column width=“1/3″][vc_empty_space height=“20px“][vc_icon icon_fontawesome=“fas fa-exclamation-circle“ color=“black“ background_style=“rounded-outline“ background_color=“black“ size=“lg“ align=“center“ css=““][/vc_column][vc_column width=“1/3″][vc_column_text css=““] \nJetzt Frühbucherpreis sichern!\nNur bis 31.05. 2026  anmelden und bis zu 400 € sparen! \n20% Rabatt für den Ehepartner!  \n[/vc_column_text][/vc_column][vc_column width=“1/3″][vc_empty_space][vc_btn title=“SEI DABEI!“ shape=“square“ color=“black“ size=“lg“ align=“center“ css=““ link=“url:https%3A%2F%2Fenablepeople.eu%2Fkontakt%2F|title:Kontakt“][/vc_column][/vc_row][vc_row][vc_column width=“1/3″][vc_column_text css=““] \nFrühbucherpreise:Berufungs-Schule: 2200€Schüler/Studenten: 1650 € \nAnmeldeschluss: 31.05.2026 \n[/vc_column_text][/vc_column][vc_column width=“1/3″][vc_column_text css=““] \nRegulär:Berufungs-Schule: 2600 €Schüler/Studenten: 1650€ \nAnmeldeschluss: 31.07.2026 \n[/vc_column_text][/vc_column][vc_column width=“1/3″][vc_column_text css=““] \nRatenzahlung Frühbucher: \n220 €/ p.M.165 €/ p.M. (ermäßigt) \nRatenzahlung Regulär: \n260 €/ p.M.  \n165 €/ p.M. (ermäßigt) \nZeitraum: 10 Monate \n[/vc_column_text][/vc_column][/vc_row][vc_row gap=“35″][vc_column][vc_separator color=“black“ css=“.vc_custom_1748953102943{margin-bottom: 0px !important;}“][/vc_column][/vc_row][vc_row][vc_column][vc_empty_space][/vc_column][/vc_row][vc_row][vc_column][vc_column_text css=““] \nBerufungsschule \nMehr Jesus | Mehr Du selbst | Mehr echtes Leben\nStudium\, Job\, Familie – Du ahnst\, dass es das nicht gewesen sein kann. Hoffst\, dass Gottes Idee für Dein Leben \n über den Status quo des Alltagtrotts hinausgeht. Aber wie findest Du die nächsten Schritte auf Deinem Weg?  \nBrich‘ aus und starte eine neue Reise.    \n[/vc_column_text][/vc_column][/vc_row][vc_row][vc_column][vc_empty_space][/vc_column][/vc_row][vc_row][vc_column width=“1/3″][vc_column_text css=““]Mehr Jesus \n\nLerne\, tief verwurzelt in Deiner Beziehung zu Gott zu leben. [/vc_column_text][/vc_column][vc_column width=“1/3″][vc_column_text css=““]Mehr Du selbst  \n\nEntdecke und lebe Gottes Plan für Dich. [/vc_column_text][/vc_column][vc_column width=“1/3″][vc_column_text css=““]Mehr echtes Leben  \n\nGestalte Deinen Alltag erfüllend und bedeutsam. [/vc_column_text][/vc_column][vc_column][vc_empty_space height=“20px“][/vc_column][vc_column][vc_column_text css=““] \n  \nDie Schule findet online und Live\, studiums- bzw. berufsbegleitend statt. Im Alltag\, für den Alltag.  \nBefähigt und angefeuert von Mitstreitern in einer lebendigen Gemeinschaft. Ganzheitlicher Fundamentbau für Bedeutsamkeit \n in Kirche und Gesellschaft.  Inspiration und Motivation für das Abenteuer Leben. Sei dabei! – Komm zur Berufungsschule.  \n[/vc_column_text][/vc_column][/vc_row][vc_row][vc_column][vc_empty_space][/vc_column][/vc_row][vc_row css=“.vc_custom_1750148992298{background-color: #D5D5D5 !important;}“][vc_column width=“1/5″ css=“.vc_custom_1750149592359{background-color: #D5D5D5 !important;}“][vc_empty_space][vc_empty_space][vc_empty_space height=“100px“ css=“.vc_custom_1750149558703{border-radius: 5px !important;}“][vc_icon icon_fontawesome=“fab fa-gratipay“ color=“black“ background_style=“rounded-outline“ background_color=“black“ size=“lg“ align=“center“ css=““][/vc_column][vc_column width=“2/5″ css=“.vc_custom_1750149583219{background-color: #D5D5D5 !important;}“][vc_column_text css=““] \nWofür schlägt dein Herz?  \nSehnst du dich nach echter Veränderung? \nWillst du deinen Alltag bewusst gestalten und Neues wagen? \nSuchst du praktische Impulse für deine Beziehungen \n– zu Gott und Menschen? \nWünschst du dir Klarheit und Vision für dein Leben? \nTräumst du von einer Gemeinschaft\, die dich begleitet? \n[/vc_column_text][/vc_column][vc_column width=“2/5″ css=“.vc_custom_1750149767404{background-color: #D5D5D5 !important;}“][vc_column_text css=““] \nDich Erwartet: \n16 Tage live in Reit im Winkl \n21 Onlinetreffen \nÜber 40 Stunden Lehre \nCoachings mit systemischen Coaches \nWöchentlicher Arbeitsaufwand ca. 3 Stunden \nWachstumsgruppen zur Umsetzung im Alltag \nMaximale Teilnehmerzahl: 20 \n[/vc_column_text][/vc_column][/vc_row][vc_row][vc_column][vc_empty_space][/vc_column][/vc_row][vc_row gap=“35″][vc_column][vc_separator color=“black“ css=“.vc_custom_1745487010623{margin-bottom: 0px !important;}“][/vc_column][/vc_row][vc_row][vc_column][vc_empty_space][/vc_column][/vc_row][vc_row][vc_column][vc_column_text css=““] \nDabei Sein! \n\nSchicke deine Anmeldung an info@enablepeople.eu\n\n\nWir vereinbaren einen Termin mit dir für ein Kennenlerngespräch\, bei dem wir gemeinsam schauen können\, ob die Berufungsschule ein guter nächster Schritt für dich ist. \n\n\nVerbindliche Teilnahme\n\n[/vc_column_text][/vc_column][/vc_row][vc_row gap=“35″ layout=“style_1″ contact_form_style=“default“ button_style=“default“ button_text=“ANMELDEN“ button_align=“left“ icon_type=“fontawesome“ icon_fontawesome=“fa fa-paper-plane“ button_color=“color“ form_id=“1458559804135-155319ad-a2d4″ contact_form_email=“#“ name_label=“Name“ name_placeholder=“Vor- und Nachnamen eingeben“ email_label=“E-Mail“ email_placeholder=“E-Mailadresse eingeben“ comment_label=“Deine Nachricht“ comment_placeholder=“Gib hier Deine Nachricht ein“ text_enter=“Danke für Deine Anmeldung! Wir melden uns schnellstmöglich zurück.\nWir freuen uns sehr auf Dich!“ phone_label=“Seminar Veranstaltung“ phone_placeholder=“Seminarname und Datum eingeben“ company_label=“Art des Tickets“ company_placeholder=“Normal oder ermäßigt eingeben“ subject_label=““ subject_placeholder=““][vc_column]NameE-MailSeminar VeranstaltungArt des TicketsDeine Anschrift ANMELDEN[/vc_column][/vc_row][vc_row][vc_column][vc_empty_space][/vc_column][/vc_row][vc_row gap=“35″][vc_column][vc_separator color=“black“ css=“.vc_custom_1745487010623{margin-bottom: 0px !important;}“][/vc_column][/vc_row][vc_row][vc_column][vc_empty_space][/vc_column][/vc_row][vc_row][vc_column][vc_empty_space][/vc_column][/vc_row][vc_row][vc_column width=“1/2″][vc_column_text css=““] \nVeranstalter \nEnable People e.V. \nSchwimmbadstraße 22 \n83242 Reit im Winkl \n[/vc_column_text][vc_separator color=“black“ el_width=“60″ css=““][vc_column_text css=““] \nKontakt  \ninfo@enablepeople.eu \n08640 4299863 \n[/vc_column_text][/vc_column][vc_column width=“1/2″][vc_gmaps link=“#E-8_JTNDaWZyYW1lJTIwc3JjJTNEJTIyaHR0cHMlM0ElMkYlMkZ3d3cuZ29vZ2xlLmNvbSUyRm1hcHMlMkZlbWJlZCUzRnBiJTNEJTIxMW0xNyUyMTFtMTIlMjExbTMlMjExZDI2ODYuMzE2NTU5NDA0MzY1JTIxMmQxMi40NjUzMzc0NTIzMzI4MTElMjEzZDQ3LjY3ODI3MTg5NzE1NTcyJTIxMm0zJTIxMWYwJTIxMmYwJTIxM2YwJTIxM20yJTIxMWkxMDI0JTIxMmk3NjglMjE0ZjEzLjElMjEzbTIlMjExbTElMjEyek5EZkNzRFF3SnpReExqZ2lUaUF4TXNLd01qZ25NVEl1TnlKRiUyMTVlMCUyMTNtMiUyMTFzZGUlMjEyc2RlJTIxNHYxNzQ4OTU1NjUzNTg2JTIxNW0yJTIxMXNkZSUyMTJzZGUlMjIlMjB3aWR0aCUzRCUyMjYwMCUyMiUyMGhlaWdodCUzRCUyMjQ1MCUyMiUyMHN0eWxlJTNEJTIyYm9yZGVyJTNBMCUzQiUyMiUyMGFsbG93ZnVsbHNjcmVlbiUzRCUyMiUyMiUyMGxvYWRpbmclM0QlMjJsYXp5JTIyJTIwcmVmZXJyZXJwb2xpY3klM0QlMjJuby1yZWZlcnJlci13aGVuLWRvd25ncmFkZSUyMiUzRSUzQyUyRmlmcmFtZSUzRQ==“ css=““][/vc_column][/vc_row][vc_row gap=“35″][vc_column][vc_separator color=“black“ css=“.vc_custom_1745487010623{margin-bottom: 0px !important;}“][/vc_column][/vc_row][vc_row][vc_column][vc_empty_space][/vc_column][/vc_row][vc_row gap=“10″ equal_height=“yes“ content_placement=“middle“ css=“.vc_custom_1752057229804{margin-right: 20px !important;margin-left: 20px !important;background-color: #244969 !important;border-color: #1E73BE !important;}“ animation=““ animation_delay=“0″ custom_delay=““ font_color=“#FFFFFF“][vc_column width=“1/2″][vc_custom_heading text=“Newsletter\n–\nUnser monatliches Kurzupdate\nfür Dich!“ font_container=“tag:h2|text_align:center“ css=““][/vc_column][vc_column width=“1/2″][vc_column_text css=““] \n\n    Vorname\n    \n \n\n    Nachname\n    \n \n\n  E-Mail-Adresse:\n    \n\n \n\n\n	\n Wenn du ein Mensch bist\, lasse das Feld leer:  \n[/vc_column_text][/vc_column][/vc_row]
URL:https://enablepeople.eu/veranstaltung/berufungsschule-kick-off/
LOCATION:Mehr Jesus | Mehr Du selbst | Mehr echtes Leben
ATTACH;FMTTYPE=image/jpeg:https://enablepeople.eu/wp-content/uploads/2025/01/Flyer-alle-Seiten-einzelnt.jpg
END:VEVENT
END:VCALENDAR